BEGIN:VCALENDAR
VERSION:2.0
PRODID:-//Office de la Culture du Lamentin - ECPv6.15.18//NONSGML v1.0//EN
CALSCALE:GREGORIAN
METHOD:PUBLISH
X-WR-CALNAME:Office de la Culture du Lamentin
X-ORIGINAL-URL:https://officedelaculturedulamentin.com
X-WR-CALDESC:Évènements pour Office de la Culture du Lamentin
REFRESH-INTERVAL;VALUE=DURATION:PT1H
X-Robots-Tag:noindex
X-PUBLISHED-TTL:PT1H
BEGIN:VTIMEZONE
TZID:America/Martinique
BEGIN:STANDARD
TZOFFSETFROM:-0400
TZOFFSETTO:-0400
TZNAME:AST
DTSTART:20240101T000000
END:STANDARD
END:VTIMEZONE
BEGIN:VEVENT
DTSTART;TZID=America/Martinique:20250629T183000
DTEND;TZID=America/Martinique:20250629T200000
DTSTAMP:20260419T213026
CREATED:20250624T160552Z
LAST-MODIFIED:20250627T153633Z
UID:11838-1751221800-1751227200@officedelaculturedulamentin.com
SUMMARY:Défilé des Ateliers Couture des Centres Culturels de Basse-Gondeau & Petit-Bambou
DESCRIPTION:
URL:https://officedelaculturedulamentin.com/evenement/defile-des-ateliers-couture-des-centres-culturels-de-basse-gondeau-petit-bambou/
CATEGORIES:Mode
ATTACH;FMTTYPE=image/jpeg:https://officedelaculturedulamentin.com/wp-content/uploads/2025/06/PHOTO-2025-06-26-15-13-00.jpg
END:VEVENT
END:VCALENDAR